Workbook

Sheet DANE WEJSCIOWE
A1: ILOŚC MAREK | B1: RABAT | D1: ILOŚC MAREK POW KRYTERIUM
A2: 0 | B2: 0.25 | D2: =COUNTIF(CALC[WARTOŚĆ ZAMÓWIENIA SRP],">10000") -> 0
A3: 1 | B3: 0.25
A4: 2 | B4: 0.3
A5: 3 | B5: 0.35

Sheet Dane zamawiającego
A1: #VALUE!
A4: FORMULARZ ZAMÓWIEŃ RACE PROGRAM AW26/27
A5: Larix Janusz Pieła S. K. A. Ul.Orzeszkowej 40, 43-300 Bielsko-Biała NIP: 5471948356, EU VAT: PL 5471948356
A8: DANE FIRMY | AM8: Wybierz date dostawy | AQ8: Wybierz formę płatności
A9: Dane Klubu | C9: Nazwa Klubu | AM9: TYDZIEŃ 38/ 2026 | AQ9: Przelew, odroczony termin płatności
C10: Adres: | AM10: TYDZIEŃ 39/ 2026 | AQ10: Przelew, krótki termin płatności - 3 dni
C11: Miasto: | AM11: TYDZIEŃ 40/ 2026 | AQ11: Przedpłata
C12: NIP: | AM12: TYDZIEŃ 41/ 2026 | AQ12: Pobranie
C13: Osoba kontaktowa | AM13: TYDZIEŃ 42/ 2026
C14: Numer telefonu | AM14: TYDZIEŃ 43/ 2026
C15: Email: | AM15: TYDZIEŃ 44/ 2026
A16: Dane do wysyłki (jeśli inne niż adres Klubu) | C16: Nazwa Klubu | AM16: TYDZIEŃ 45/ 2026
C17: Adres: | AM17: TYDZIEŃ 46/ 2026
C18: Miasto: | AM18: TYDZIEŃ 47/ 2026
C19: Osoba kontaktowa | AM19: TYDZIEŃ 48/ 2026
C20: Telefon: | AM20: TYDZIEŃ 49/ 2026
C21: E-mail: | AM21: TYDZIEŃ 50 2026
AM22: TYDZIEŃ 51/ 2026
A23: Termin odbioru | D23: Wybierz date dostawy
B27: PODSUMOWANIE ZAMÓWIENIA RACE PROGRAM
B28: MARKA | C28: WARTOŚĆ ZAMÓWIENIA SRP | D28: PRÓG | E28: PREMIA BAZOWA | F28: WARTOŚĆ ZAMÓWIENIA PO RABACIE BRUTTO
B29: #VALUE! | C29: =SUMIF(Zamówienie!L:L,"UVEX",Zamówienie!K:K) -> 0 | D29: 10000 | E29: =VLOOKUP('DANE WEJSCIOWE'!$D$2,Tabela4[],2,1) -> 0.25 | F29: =(CALC[[#This Row],[WARTOŚĆ ZAMÓWIENIA SRP]]*(1-CALC[[#This Row],[PREMIA BAZOWA]])) -> 0
B30: #VALUE! | C30: =SUMIF(Zamówienie!L:L,"REUSCH",Zamówienie!K:K) -> 0 | D30: 10000 | E30: =VLOOKUP('DANE WEJSCIOWE'!$D$2,Tabela4[],2,1) -> 0.25 | F30: =(CALC[[#This Row],[WARTOŚĆ ZAMÓWIENIA SRP]]*(1-CALC[[#This Row],[PREMIA BAZOWA]])) -> 0
B31: #VALUE! | C31: =SUMIF(Zamówienie!L:L,"EISBAR",Zamówienie!K:K) -> 0 | D31: 10000 | E31: =VLOOKUP('DANE WEJSCIOWE'!$D$2,Tabela4[],2,1) -> 0.25 | F31: =(CALC[[#This Row],[WARTOŚĆ ZAMÓWIENIA SRP]]*(1-CALC[[#This Row],[PREMIA BAZOWA]])) -> 0
B32: #VALUE! | C32: =SUMIF(Zamówienie!L:L,"ODLO",Zamówienie!K:K) -> 0 | D32: 10000 | E32: =VLOOKUP('DANE WEJSCIOWE'!$D$2,Tabela4[],2,1) -> 0.25 | F32: =(CALC[[#This Row],[WARTOŚĆ ZAMÓWIENIA SRP]]*(1-CALC[[#This Row],[PREMIA BAZOWA]])) -> 0
B33: Suma | C33: =SUBTOTAL(109,CALC[WARTOŚĆ ZAMÓWIENIA SRP]) -> 0 | F33: =SUBTOTAL(109,CALC[WARTOŚĆ ZAMÓWIENIA PO RABACIE BRUTTO]) -> 0
B35: Ceny obowiązują od 1 sierpnia 2026
B36: Termin składania przedzamówień: 20.03.2025
B37: Termin dostawy: od sierpień 2026
B38: Zamówienia składane wyłącznie na załączonym formularzu w wyznaczonych punkatch partnerskich
B40: Zamówienia składane wyłącznie na załączonym formularzu.

Sheet Zamówienie
F4: =SUM(F10:F873) -> 0 | G4: =SUM(G10:G140) -> 0 | H4: =SUM(H10:H140) -> 0 | J4: =SUM(J10:J873) -> 0 | K4: =SUM(K10:K873) -> 0
A5: Formularz zamówień RACE PROGRM AW26/27
A6: Larix Janusz Pieła S. K. A. Ul.Orzeszkowej 40, 43-300 Bielsko-Biała NIP: 5471948356, EU VAT: PL 5471948356
A7: Ceny obowiązują od 1 sierpnia do 31 grudnia 2025
A9: Indeks | B9: Kolor | C9: Nazwa | D9: Rozmiar | E9: EAN | F9: Zamawiana ilość | G9: Zamawiane ilości Transza 2 | H9: Zamawiane ilości Transza 3 | I9: Cena detaliczna brutto | J9: Suma z ilości | K9: Wartość w cenach detalicznych brutto | L9: Marka | M9: Kolejność
A10: 56/6/348/10/03 | B10: carbon | C10: Kask narciarski UVEX Ultimate race 4 pro | D10: 53-54 | E10: 4043197402741 | I10: 2599.9 | J10: =H10+G10+F10 -> 0 | K10: =I10*J10 -> 0 | L10: UVEX | M10: 1
A11: 56/6/348/10/04 | B11: carbon | C11: Kask narciarski UVEX Ultimate race 4 pro | D11: 55-56 | E11: 4043197402758 | I11: 2599.9 | J11: =H11+G11+F11 -> 0 | K11: =I11*J11 -> 0 | L11: UVEX | M11: 2
A12: 56/6/348/10/05 | B12: carbon | C12: Kask narciarski UVEX Ultimate race 4 pro | D12: 56-57 | E12: 4043197400945 | I12: 2599.9 | J12: =H12+G12+F12 -> 0 | K12: =I12*J12 -> 0 | L12: UVEX | M12: 3
A13: 56/6/348/10/06 | B13: carbon | C13: Kask narciarski UVEX Ultimate race 4 pro | D13: 58-59 | E13: 4043197400952 | I13: 2599.9 | J13: =H13+G13+F13 -> 0 | K13: =I13*J13 -> 0 | L13: UVEX | M13: 4
A14: 56/6/347/10/03 | B14: black matt | C14: Kask narciarski UVEX Race 4 | D14: 53-54 | E14: 4043197402666 | I14: 1299.9 | J14: =H14+G14+F14 -> 0 | K14: =I14*J14 -> 0 | L14: UVEX | M14: 5
A15: 56/6/347/10/04 | B15: black matt | C15: Kask narciarski UVEX Race 4 | D15: 55-56 | E15: 4043197402673 | I15: 1299.9 | J15: =H15+G15+F15 -> 0 | K15: =I15*J15 -> 0 | L15: UVEX | M15: 6
A16: 56/6/347/10/05 | B16: black matt | C16: Kask narciarski UVEX Race 4 | D16: 56-57 | E16: 4043197400785 | I16: 1299.9 | J16: =H16+G16+F16 -> 0 | K16: =I16*J16 -> 0 | L16: UVEX | M16: 7
A17: 56/6/347/10/06 | B17: black matt | C17: Kask narciarski UVEX Race 4 | D17: 58-59 | E17: 4043197400792 | I17: 1299.9 | J17: =H17+G17+F17 -> 0 | K17: =I17*J17 -> 0 | L17: UVEX | M17: 8
A18: 56/6/347/10/07 | B18: black matt | C18: Kask narciarski UVEX Race 4 | D18: 59-60 | E18: 4043197402697 | I18: 1299.9 | J18: =H18+G18+F18 -> 0 | K18: =I18*J18 -> 0 | L18: UVEX | M18: 9
A19: 56/6/347/10/08 | B19: black matt | C19: Kask narciarski UVEX Race 4 | D19: 60-61 | E19: 4043197402680 | I19: 1299.9 | J19: =H19+G19+F19 -> 0 | K19: =I19*J19 -> 0 | L19: UVEX | M19: 10
A20: 56/6/347/11/03 | B20: white matt | C20: Kask narciarski UVEX Race 4 | D20: 53-54 | E20: 4043197402628 | I20: 1299.9 | J20: =H20+G20+F20 -> 0 | K20: =I20*J20 -> 0 | L20: UVEX | M20: 11
A21: 56/6/347/11/04 | B21: white matt | C21: Kask narciarski UVEX Race 4 | D21: 55-56 | E21: 4043197402635 | I21: 1299.9 | J21: =H21+G21+F21 -> 0 | K21: =I21*J21 -> 0 | L21: UVEX | M21: 12
... A72: 55/0/527/2450/UNI | B72: black - mirror red | C72: Gogle narciarskie UVEX Athletic CV race | D72: one size | E72: 4043197389516 | I72: 459.9 | J72: =H72+G72+F72 -> 0 | K72: =I72*J72 -> 0 | L72: UVEX | M72: 296
A73: 55/0/400/2230/UNI | B73: black matt-mirror red | C73: Gogle narciarskie UVEX Victorious M CV | D73: one size | E73: 4043197404684 | I73: 599.9 | J73: =H73+G73+F73 -> 0 | K73: =I73*J73 -> 0 | L73: UVEX
A74: 55/0/400/2130/UNI | B74: black matt-mirror ruby | C74: Gogle narciarskie UVEX Victorious M CV | D74: one size | E74: 4043197404677 | I74: 599.9 | J74: =H74+G74+F74 -> 0 | K74: =I74*J74 -> 0 | L74: UVEX
A75: 55/0/400/2031/UNI | B75: black matt-mirror orange | C75: Gogle narciarskie UVEX Victorious M CV | D75: one size | E75: 4043197404653 | I75: 599.9 | J75: =H75+G75+F75 -> 0 | K75: =I75*J75 -> 0 | L75: UVEX
A76: 55/0/400/1331/UNI | B76: white matt-mirror blue | C76: Gogle narciarskie UVEX Victorious M CV | D76: one size | E76: 4043197404660 | I76: 599.9 | J76: =H76+G76+F76 -> 0 | K76: =I76*J76 -> 0 | L76: UVEX
A77: 55/0/400/1231/UNI | B77: white matt-mirror pink | C77: Gogle narciarskie UVEX Victorious M CV | D77: one size | E77: 4043197404646 | I77: 599.9 | J77: =H77+G77+F77 -> 0 | K77: =I77*J77 -> 0 | L77: UVEX
A78: 55/0/400/1031/UNI | B78: white matt-mirror orange | C78: Gogle narciarskie UVEX Victorious M CV | D78: one size | E78: 4043197404639 | I78: 599.9 | J78: =H78+G78+F78 -> 0 | K78: =I78*J78 -> 0 | L78: UVEX
A79: 55/9/004/1000/UNI | B79: black | C79: Etui na gogle UVEX Ski goggle case | D79: one size | E79: 4043197367859 | I79: 99.9 | J79: =H79+G79+F79 -> 0 | K79: =I79*J79 -> 0 | L79: UVEX
A80: 55/9/020/0031/UNI | B80: rainbow | C80: Etui na gogle UVEX Goggle cover CV | D80: one size | E80: 4043197376813 | I80: 49.9 | J80: =H80+G80+F80 -> 0 | K80: =I80*J80 -> 0 | L80: UVEX
A81: 56/9/402/01/00 | B81: black | C81: Garda do kasku UVEX Resolution chin guard | D81: one size | E81: 4043197391366 | I81: 179.9 | J81: =H81+G81+F81 -> 0 | K81: =I81*J81 -> 0 | L81: UVEX
A82: 56/9/402/02/00 | B82: white | C82: Garda do kasku UVEX Resolution chin guard | D82: one size | E82: 4043197391373 | I82: 179.9 | J82: =H82+G82+F82 -> 0 | K82: =I82*J82 -> 0 | L82: UVEX
A83: 41/9/011/00/01 | B83: black | C83: Torba na kask UVEX helmet bag | D83: one size | E83: 4043197373263 | I83: 249.9 | J83: =H83+G83+F83 -> 0 | K83: =I83*J83 -> 0 | L83: UVEX
A84: 56/9/406/1100/UNI | B84: black | C84: Osłona nausznika UVEX Race 4 ear plates | D84: one size | E84: 4043197403717 | I84: 49.9 | J84: =H84+G84+F84 -> 0 | K84: =I84*J84 -> 0 | L84: UVEX
... A140: 55/8/191/0018/UNI | B140: ess SL/clear S0 RD | C140: Szyba do gogli UVEX Victorious ess SL | D140: one size | E140: 4043197392318 | I140: 279.9 | J140: =H140+G140+F140 -> 0 | K140: =I140*J140 -> 0 | L140: UVEX
A141: 65/11/111/7588/6,5 | B141: 7588 | C141: Reusch Worldcup Warrior GS | D141: 6.5 | E141: 4060485586884 | I141: 1379.9 | J141: =H141+G141+F141 -> 0 | K141: =I141*J141 -> 0 | L141: REUSCH | M141: Winter | P141: 1
A142: 65/11/111/7588/7 | B142: 7588 | C142: Reusch Worldcup Warrior GS | D142: 7 | E142: 4060485586891 | I142: 1379.9 | J142: =H142+G142+F142 -> 0 | K142: =I142*J142 -> 0 | L142: REUSCH | M142: Winter | P142: 2
A143: 65/11/111/7588/7,5 | B143: 7588 | C143: Reusch Worldcup Warrior GS | D143: 7.5 | E143: 4060485586907 | I143: 1379.9 | J143: =H143+G143+F143 -> 0 | K143: =I143*J143 -> 0 | L143: REUSCH | M143: Winter | P143: 3
A144: 65/11/111/7588/8 | B144: 7588 | C144: Reusch Worldcup Warrior GS | D144: 8 | E144: 4060485586914 | I144: 1379.9 | J144: =H144+G144+F144 -> 0 | K144: =I144*J144 -> 0 | L144: REUSCH | M144: Winter | P144: 4
A145: 65/11/111/7588/8,5 | B145: 7588 | C145: Reusch Worldcup Warrior GS | D145: 8.5 | E145: 4060485586921 | I145: 1379.9 | J145: =H145+G145+F145 -> 0 | K145: =I145*J145 -> 0 | L145: REUSCH | M145: Winter
A146: 65/11/111/7588/9 | B146: 7588 | C146: Reusch Worldcup Warrior GS | D146: 9 | E146: 4060485586938 | I146: 1379.9 | J146: =H146+G146+F146 -> 0 | K146: =I146*J146 -> 0 | L146: REUSCH | M146: Winter
A147: 65/11/111/7588/9,5 | B147: 7588 | C147: Reusch Worldcup Warrior GS | D147: 9.5 | E147: 4060485586945 | I147: 1379.9 | J147: =H147+G147+F147 -> 0 | K147: =I147*J147 -> 0 | L147: REUSCH | M147: Winter
A148: 65/11/111/7588/10 | B148: 7588 | C148: Reusch Worldcup Warrior GS | D148: 10 | E148: 4060485586952 | I148: 1379.9 | J148: =H148+G148+F148 -> 0 | K148: =I148*J148 -> 0 | L148: REUSCH | M148: Winter
A149: 65/11/111/7588/10,5 | B149: 7588 | C149: Reusch Worldcup Warrior GS | D149: 10.5 | E149: 4060485586969 | I149: 1379.9 | J149: =H149+G149+F149 -> 0 | K149: =I149*J149 -> 0 | L149: REUSCH | M149: Winter
...
