Workbook

Sheet DANE WEJSCIOWE
A1: ILOŚC MAREK | B1: RABAT | D1: ILOŚC MAREK POW KRYTERIUM
A2: 0 | B2: 0.25 | D2: =COUNTIF(CALC[WARTOŚĆ ZAMÓWIENIA SRP],">10000") -> 0
A3: 1 | B3: 0.25
A4: 2 | B4: 0.3
A5: 3 | B5: 0.35

Sheet Dane zamawiającego
A1: #VALUE!
A4: FORMULARZ ZAMÓWIEŃ RACE PROGRAM AW26/27
A5: Larix Janusz Pieła S. K. A. Ul.Orzeszkowej 40, 43-300 Bielsko-Biała NIP: 5471948356, EU VAT: PL 5471948356
A8: DANE FIRMY | AM8: Wybierz date dostawy | AQ8: Wybierz formę płatności
A9: Dane Klubu | C9: Nazwa Klubu | AM9: TYDZIEŃ 38/ 2026 | AQ9: Przelew, odroczony termin płatności
C10: Adres: | AM10: TYDZIEŃ 39/ 2026 | AQ10: Przelew, krótki termin płatności - 3 dni
C11: Miasto: | AM11: TYDZIEŃ 40/ 2026 | AQ11: Przedpłata
C12: NIP: | AM12: TYDZIEŃ 41/ 2026 | AQ12: Pobranie
C13: Osoba kontaktowa | AM13: TYDZIEŃ 42/ 2026
C14: Numer telefonu | AM14: TYDZIEŃ 43/ 2026
C15: Email: | AM15: TYDZIEŃ 44/ 2026
A16: Dane do wysyłki (jeśli inne niż adres Klubu) | C16: Nazwa Klubu | AM16: TYDZIEŃ 45/ 2026
C17: Adres: | AM17: TYDZIEŃ 46/ 2026
C18: Miasto: | AM18: TYDZIEŃ 47/ 2026
C19: Osoba kontaktowa | AM19: TYDZIEŃ 48/ 2026
C20: Telefon: | AM20: TYDZIEŃ 49/ 2026
C21: E-mail: | AM21: TYDZIEŃ 50 2026
AM22: TYDZIEŃ 51/ 2026
A23: Termin odbioru | D23: Wybierz date dostawy
B27: PODSUMOWANIE ZAMÓWIENIA RACE PROGRAM
B28: MARKA | C28: WARTOŚĆ ZAMÓWIENIA SRP | D28: PRÓG | E28: PREMIA BAZOWA | F28: WARTOŚĆ ZAMÓWIENIA PO RABACIE BRUTTO
B29: #VALUE! | C29: =SUMIF(Zamówienie!L:L,"UVEX",Zamówienie!K:K) -> 0 | D29: 10000 | E29: =VLOOKUP('DANE WEJSCIOWE'!$D$2,Tabela4[],2,1) -> 0.25 | F29: =(CALC[[#This Row],[WARTOŚĆ ZAMÓWIENIA SRP]]*(1-CALC[[#This Row],[PREMIA BAZOWA]])) -> 0
B30: #VALUE! | C30: =SUMIF(Zamówienie!L:L,"REUSCH",Zamówienie!K:K) -> 0 | D30: 10000 | E30: =VLOOKUP('DANE WEJSCIOWE'!$D$2,Tabela4[],2,1) -> 0.25 | F30: =(CALC[[#This Row],[WARTOŚĆ ZAMÓWIENIA SRP]]*(1-CALC[[#This Row],[PREMIA BAZOWA]])) -> 0
B31: #VALUE! | C31: =SUMIF(Zamówienie!L:L,"EISBAR",Zamówienie!K:K) -> 0 | D31: 10000 | E31: =VLOOKUP('DANE WEJSCIOWE'!$D$2,Tabela4[],2,1) -> 0.25 | F31: =(CALC[[#This Row],[WARTOŚĆ ZAMÓWIENIA SRP]]*(1-CALC[[#This Row],[PREMIA BAZOWA]])) -> 0
B32: #VALUE! | C32: =SUMIF(Zamówienie!L:L,"ODLO",Zamówienie!K:K) -> 0 | D32: 10000 | E32: =VLOOKUP('DANE WEJSCIOWE'!$D$2,Tabela4[],2,1) -> 0.25 | F32: =(CALC[[#This Row],[WARTOŚĆ ZAMÓWIENIA SRP]]*(1-CALC[[#This Row],[PREMIA BAZOWA]])) -> 0
B33: Suma | C33: =SUBTOTAL(109,CALC[WARTOŚĆ ZAMÓWIENIA SRP]) -> 0 | F33: =SUBTOTAL(109,CALC[WARTOŚĆ ZAMÓWIENIA PO RABACIE BRUTTO]) -> 0
B35: Ceny obowiązują od 1 sierpnia 2026
B36: Termin składania przedzamówień: 20.03.2025
B37: Termin dostawy: od sierpień 2026
B38: Zamówienia składane wyłącznie na załączonym formularzu w wyznaczonych punkatch partnerskich
B40: Zamówienia składane wyłącznie na załączonym formularzu.

Sheet Zamówienie
F4: =SUM(F10:F873) -> 0 | G4: =SUM(G10:G140) -> 0 | H4: =SUM(H10:H140) -> 0 | J4: =SUM(J10:J873) -> 0 | K4: =SUM(K10:K873) -> 0
A5: Formularz zamówień RACE PROGRM AW26/27
A6: Larix Janusz Pieła S. K. A. Ul.Orzeszkowej 40, 43-300 Bielsko-Biała NIP: 5471948356, EU VAT: PL 5471948356
A7: Ceny obowiązują od 1 sierpnia do 31 grudnia 2025
A9: Indeks | B9: Kolor | C9: Nazwa | D9: Rozmiar | E9: EAN | F9: Zamawiana ilość | G9: Zamawiane ilości Transza 2 | H9: Zamawiane ilości Transza 3 | I9: Cena detaliczna brutto | J9: Suma z ilości | K9: Wartość w cenach detalicznych brutto | L9: Marka | M9: Kolejność
A10: 56/6/348/10/03 | B10: carbon | C10: Kask narciarski UVEX Ultimate race 4 pro | D10: 53-54 | E10: 4043197402741 | I10: 2599.9 | J10: =H10+G10+F10 -> 0 | K10: =I10*J10 -> 0 | L10: UVEX | M10: 1
A11: 56/6/348/10/04 | B11: carbon | C11: Kask narciarski UVEX Ultimate race 4 pro | D11: 55-56 | E11: 4043197402758 | I11: 2599.9 | J11: =H11+G11+F11 -> 0 | K11: =I11*J11 -> 0 | L11: UVEX | M11: 2
A12: 56/6/348/10/05 | B12: carbon | C12: Kask narciarski UVEX Ultimate race 4 pro | D12: 56-57 | E12: 4043197400945 | I12: 2599.9 | J12: =H12+G12+F12 -> 0 | K12: =I12*J12 -> 0 | L12: UVEX | M12: 3
A13: 56/6/348/10/06 | B13: carbon | C13: Kask narciarski UVEX Ultimate race 4 pro | D13: 58-59 | E13: 4043197400952 | I13: 2599.9 | J13: =H13+G13+F13 -> 0 | K13: =I13*J13 -> 0 | L13: UVEX | M13: 4
A14: 56/6/347/10/03 | B14: black matt | C14: Kask narciarski UVEX Race 4 | D14: 53-54 | E14: 4043197402666 | I14: 1299.9 | J14: =H14+G14+F14 -> 0 | K14: =I14*J14 -> 0 | L14: UVEX | M14: 5
A15: 56/6/347/10/04 | B15: black matt | C15: Kask narciarski UVEX Race 4 | D15: 55-56 | E15: 4043197402673 | I15: 1299.9 | J15: =H15+G15+F15 -> 0 | K15: =I15*J15 -> 0 | L15: UVEX | M15: 6
A16: 56/6/347/10/05 | B16: black matt | C16: Kask narciarski UVEX Race 4 | D16: 56-57 | E16: 4043197400785 | I16: 1299.9 | J16: =H16+G16+F16 -> 0 | K16: =I16*J16 -> 0 | L16: UVEX | M16: 7
A17: 56/6/347/10/06 | B17: black matt | C17: Kask narciarski UVEX Race 4 | D17: 58-59 | E17: 4043197400792 | I17: 1299.9 | J17: =H17+G17+F17 -> 0 | K17: =I17*J17 -> 0 | L17: UVEX | M17: 8
A18: 56/6/347/10/07 | B18: black matt | C18: Kask narciarski UVEX Race 4 | D18: 59-60 | E18: 4043197402697 | I18: 1299.9 | J18: =H18+G18+F18 -> 0 | K18: =I18*J18 -> 0 | L18: UVEX | M18: 9
A19: 56/6/347/10/08 | B19: black matt | C19: Kask narciarski UVEX Race 4 | D19: 60-61 | E19: 4043197402680 | I19: 1299.9 | J19: =H19+G19+F19 -> 0 | K19: =I19*J19 -> 0 | L19: UVEX | M19: 10
A20: 56/6/347/11/03 | B20: white matt | C20: Kask narciarski UVEX Race 4 | D20: 53-54 | E20: 4043197402628 | I20: 1299.9 | J20: =H20+G20+F20 -> 0 | K20: =I20*J20 -> 0 | L20: UVEX | M20: 11
A21: 56/6/347/11/04 | B21: white matt | C21: Kask narciarski UVEX Race 4 | D21: 55-56 | E21: 4043197402635 | I21: 1299.9 | J21: =H21+G21+F21 -> 0 | K21: =I21*J21 -> 0 | L21: UVEX | M21: 12
... A72: 55/0/527/2450/UNI | B72: black - mirror red | C72: Gogle narciarskie UVEX Athletic CV race | D72: one size | E72: 4043197389516 | I72: 459.9 | J72: =H72+G72+F72 -> 0 | K72: =I72*J72 -> 0 | L72: UVEX | M72: 296
A73: 55/0/400/2230/UNI | B73: black matt-mirror red | C73: Gogle narciarskie UVEX Victorious M CV | D73: one size | E73: 4043197404684 | I73: 599.9 | J73: =H73+G73+F73 -> 0 | K73: =I73*J73 -> 0 | L73: UVEX
A74: 55/0/400/2130/UNI | B74: black matt-mirror ruby | C74: Gogle narciarskie UVEX Victorious M CV | D74: one size | E74: 4043197404677 | I74: 599.9 | J74: =H74+G74+F74 -> 0 | K74: =I74*J74 -> 0 | L74: UVEX
A75: 55/0/400/2031/UNI | B75: black matt-mirror orange | C75: Gogle narciarskie UVEX Victorious M CV | D75: one size | E75: 4043197404653 | I75: 599.9 | J75: =H75+G75+F75 -> 0 | K75: =I75*J75 -> 0 | L75: UVEX
A76: 55/0/400/1331/UNI | B76: white matt-mirror blue | C76: Gogle narciarskie UVEX Victorious M CV | D76: one size | E76: 4043197404660 | I76: 599.9 | J76: =H76+G76+F76 -> 0 | K76: =I76*J76 -> 0 | L76: UVEX
A77: 55/0/400/1231/UNI | B77: white matt-mirror pink | C77: Gogle narciarskie UVEX Victorious M CV | D77: one size | E77: 4043197404646 | I77: 599.9 | J77: =H77+G77+F77 -> 0 | K77: =I77*J77 -> 0 | L77: UVEX
A78: 55/0/400/1031/UNI | B78: white matt-mirror orange | C78: Gogle narciarskie UVEX Victorious M CV | D78: one size | E78: 4043197404639 | I78: 599.9 | J78: =H78+G78+F78 -> 0 | K78: =I78*J78 -> 0 | L78: UVEX
A79: 55/9/004/1000/UNI | B79: black | C79: Etui na gogle UVEX Ski goggle case | D79: one size | E79: 4043197367859 | I79: 99.9 | J79: =H79+G79+F79 -> 0 | K79: =I79*J79 -> 0 | L79: UVEX
A80: 55/9/020/0031/UNI | B80: rainbow | C80: Etui na gogle UVEX Goggle cover CV | D80: one size | E80: 4043197376813 | I80: 49.9 | J80: =H80+G80+F80 -> 0 | K80: =I80*J80 -> 0 | L80: UVEX
A81: 56/9/402/01/00 | B81: black | C81: Garda do kasku UVEX Resolution chin guard | D81: one size | E81: 4043197391366 | I81: 179.9 | J81: =H81+G81+F81 -> 0 | K81: =I81*J81 -> 0 | L81: UVEX
A82: 56/9/402/02/00 | B82: white | C82: Garda do kasku UVEX Resolution chin guard | D82: one size | E82: 4043197391373 | I82: 179.9 | J82: =H82+G82+F82 -> 0 | K82: =I82*J82 -> 0 | L82: UVEX
A83: 41/9/011/00/01 | B83: black | C83: Torba na kask UVEX helmet bag | D83: one size | E83: 4043197373263 | I83: 249.9 | J83: =H83+G83+F83 -> 0 | K83: =I83*J83 -> 0 | L83: UVEX
A84: 56/9/406/1100/UNI | B84: black | C84: Osłona nausznika UVEX Race 4 ear plates | D84: one size | E84: 4043197403717 | I84: 49.9 | J84: =H84+G84+F84 -> 0 | K84: =I84*J84 -> 0 | L84: UVEX
... A140: 55/8/191/0018/UNI | B140: ess SL/clear S0 RD | C140: Szyba do gogli UVEX Victorious ess SL | D140: one size | E140: 4043197392318 | I140: 279.9 | J140: =H140+G140+F140 -> 0 | K140: =I140*J140 -> 0 | L140: UVEX
A141: 65/11/111/7588/6,5 | B141: 7588 | C141: Reusch Worldcup Warrior GS | D141: 6.5 | E141: 4060485586884 | I141: 1379.9 | J141: =H141+G141+F141 -> 0 | K141: =I141*J141 -> 0 | L141: REUSCH | M141: Winter | P141: 1
A142: 65/11/111/7588/7 | B142: 7588 | C142: Reusch Worldcup Warrior GS | D142: 7 | E142: 4060485586891 | I142: 1379.9 | J142: =H142+G142+F142 -> 0 | K142: =I142*J142 -> 0 | L142: REUSCH | M142: Winter | P142: 2
A143: 65/11/111/7588/7,5 | B143: 7588 | C143: Reusch Worldcup Warrior GS | D143: 7.5 | E143: 4060485586907 | I143: 1379.9 | J143: =H143+G143+F143 -> 0 | K143: =I143*J143 -> 0 | L143: REUSCH | M143: Winter | P143: 3
A144: 65/11/111/7588/8 | B144: 7588 | C144: Reusch Worldcup Warrior GS | D144: 8 | E144: 4060485586914 | I144: 1379.9 | J144: =H144+G144+F144 -> 0 | K144: =I144*J144 -> 0 | L144: REUSCH | M144: Winter | P144: 4
A145: 65/11/111/7588/8,5 | B145: 7588 | C145: Reusch Worldcup Warrior GS | D145: 8.5 | E145: 4060485586921 | I145: 1379.9 | J145: =H145+G145+F145 -> 0 | K145: =I145*J145 -> 0 | L145: REUSCH | M145: Winter
A146: 65/11/111/7588/9 | B146: 7588 | C146: Reusch Worldcup Warrior GS | D146: 9 | E146: 4060485586938 | I146: 1379.9 | J146: =H146+G146+F146 -> 0 | K146: =I146*J146 -> 0 | L146: REUSCH | M146: Winter
A147: 65/11/111/7588/9,5 | B147: 7588 | C147: Reusch Worldcup Warrior GS | D147: 9.5 | E147: 4060485586945 | I147: 1379.9 | J147: =H147+G147+F147 -> 0 | K147: =I147*J147 -> 0 | L147: REUSCH | M147: Winter
A148: 65/11/111/7588/10 | B148: 7588 | C148: Reusch Worldcup Warrior GS | D148: 10 | E148: 4060485586952 | I148: 1379.9 | J148: =H148+G148+F148 -> 0 | K148: =I148*J148 -> 0 | L148: REUSCH | M148: Winter
A149: 65/11/111/7588/10,5 | B149: 7588 | C149: Reusch Worldcup Warrior GS | D149: 10.5 | E149: 4060485586969 | I149: 1379.9 | J149: =H149+G149+F149 -> 0 | K149: =I149*J149 -> 0 | L149: REUSCH | M149: Winter
A150: 65/11/111/7588/11 | B150: 7588 | C150: Reusch Worldcup Warrior GS | D150: 11 | E150: 4060485586976 | I150: 1379.9 | J150: =H150+G150+F150 -> 0 | K150: =I150*J150 -> 0 | L150: REUSCH | M150: Winter
A151: 65/11/411/7588/6,5 | B151: 7588 | C151: Reusch Worldcup Warrior GS Mitten | D151: 6.5 | E151: 4060485589281 | I151: 1379.9 | J151: =H151+G151+F151 -> 0 | K151: =I151*J151 -> 0 | L151: REUSCH | M151: Winter
A152: 65/11/411/7588/7 | B152: 7588 | C152: Reusch Worldcup Warrior GS Mitten | D152: 7 | E152: 4060485589298 | I152: 1379.9 | J152: =H152+G152+F152 -> 0 | K152: =I152*J152 -> 0 | L152: REUSCH | M152: Winter
A153: 65/11/411/7588/7,5 | B153: 7588 | C153: Reusch Worldcup Warrior GS Mitten | D153: 7.5 | E153: 4060485589304 | I153: 1379.9 | J153: =H153+G153+F153 -> 0 | K153: =I153*J153 -> 0 | L153: REUSCH | M153: Winter
A154: 65/11/411/7588/8 | B154: 7588 | C154: Reusch Worldcup Warrior GS Mitten | D154: 8 | E154: 4060485589311 | I154: 1379.9 | J154: =H154+G154+F154 -> 0 | K154: =I154*J154 -> 0 | L154: REUSCH | M154: Winter
A155: 65/11/411/7588/8,5 | B155: 7588 | C155: Reusch Worldcup Warrior GS Mitten | D155: 8.5 | E155: 4060485589328 | I155: 1379.9 | J155: =H155+G155+F155 -> 0 | K155: =I155*J155 -> 0 | L155: REUSCH | M155: Winter
A156: 65/11/411/7588/9 | B156: 7588 | C156: Reusch Worldcup Warrior GS Mitten | D156: 9 | E156: 4060485589335 | I156: 1379.9 | J156: =H156+G156+F156 -> 0 | K156: =I156*J156 -> 0 | L156: REUSCH | M156: Winter
... A366: 65/01/199/6029/11 | B366: 6029 | C366: Reusch Ultra | D366: 11 | E366: 4060485612705 | I366: 569.9 | J366: =H366+G366+F366 -> 0 | K366: =I366*J366 -> 0 | L366: REUSCH | M366: Winter
A367: 31058 | B367: 109 | C367: Iska MÜ | D367: one size | E367: 9008132673513 | I367: 219.9 | J367: =H367+G367+F367 -> 0 | K367: =I367*J367 -> 0 | L367: EISBAR | N367: 468
A368: 31058 | B368: 133 | C368: Iska MÜ | D368: one size | E368: 9008132674527 | I368: 219.9 | J368: =H368+G368+F368 -> 0 | K368: =I368*J368 -> 0 | L368: EISBAR | N368: 469
A369: 31058 | B369: 249 | C369: Iska MÜ | D369: one size | E369: 9008132673520 | I369: 219.9 | J369: =H369+G369+F369 -> 0 | K369: =I369*J369 -> 0 | L369: EISBAR | N369: 470
A370: 31058 | B370: 483 | C370: Iska MÜ | D370: one size | E370: 9008132674534 | I370: 219.9 | J370: =H370+G370+F370 -> 0 | K370: =I370*J370 -> 0 | L370: EISBAR | N370: 471
A371: 31058 | B371: 659 | C371: Iska MÜ | D371: one size | E371: 9008132674541 | I371: 219.9 | J371: =H371+G371+F371 -> 0 | K371: =I371*J371 -> 0 | L371: EISBAR | N371: 472
A372: 36170 | B372: 109 | C372: Iska STB | D372: one size | E372: 9008132673438 | I372: 179.9 | J372: =H372+G372+F372 -> 0 | K372: =I372*J372 -> 0 | L372: EISBAR | N372: 473
A373: 36170 | B373: 133 | C373: Iska STB | D373: one size | E373: 9008132674435 | I373: 179.9 | J373: =H373+G373+F373 -> 0 | K373: =I373*J373 -> 0 | L373: EISBAR | N373: 474
A374: 36170 | B374: 249 | C374: Iska STB | D374: one size | E374: 9008132673445 | I374: 179.9 | J374: =H374+G374+F374 -> 0 | K374: =I374*J374 -> 0 | L374: EISBAR | N374: 475
A375: 36170 | B375: 483 | C375: Iska STB | D375: one size | E375: 9008132674442 | I375: 179.9 | J375: =H375+G375+F375 -> 0 | K375: =I375*J375 -> 0 | L375: EISBAR | N375: 476
A376: 36170 | B376: 659 | C376: Iska STB | D376: one size | E376: 9008132674459 | I376: 179.9 | J376: =H376+G376+F376 -> 0 | K376: =I376*J376 -> 0 | L376: EISBAR | N376: 477
A377: 31057 | B377: 9 | C377: Staka MÜ | D377: one size | E377: 9008132673353 | I377: 199.9 | J377: =H377+G377+F377 -> 0 | K377: =I377*J377 -> 0 | L377: EISBAR | N377: 478
A378: 31057 | B378: 100 | C378: Staka MÜ | D378: one size | E378: 9008132673360 | I378: 199.9 | J378: =H378+G378+F378 -> 0 | K378: =I378*J378 -> 0 | L378: EISBAR | N378: 479
... A412: 403125 | B412: 249 | C412: Star Pompon MÜ | D412: one size | E412: 9008132674756 | I412: 229.9 | J412: =H412+G412+F412 -> 0 | K412: =I412*J412 -> 0 | L412: EISBAR | N412: 534
A413: 403125 | B413: 330 | C413: Star Pompon MÜ | D413: one size | E413: 9008132664450 | I413: 229.9 | J413: =H413+G413+F413 -> 0 | K413: =I413*J413 -> 0 | L413: EISBAR | M413: X | N413: 535
A414: 403125 | B414: 469 | C414: Star Pompon MÜ | D414: one size | E414: 9008132674763 | I414: 229.9 | J414: =H414+G414+F414 -> 0 | K414: =I414*J414 -> 0 | L414: EISBAR | N414: 536
A415: 403125 | B415: 659 | C415: Star Pompon MÜ | D415: one size | E415: 9008132674770 | I415: 229.9 | J415: =H415+G415+F415 -> 0 | K415: =I415*J415 -> 0 | L415: EISBAR | N415: 537
A416: 403125 | B416: 672 | C416: Star Pompon MÜ | D416: one size | E416: 9008132674787 | I416: 229.9 | J416: =H416+G416+F416 -> 0 | K416: =I416*J416 -> 0 | L416: EISBAR | N416: 538
A417: 403125 | B417: 786 | C417: Star Pompon MÜ | D417: one size | E417: 9008132664498 | I417: 229.9 | J417: =H417+G417+F417 -> 0 | K417: =I417*J417 -> 0 | L417: EISBAR | N417: 539
A418: 36171 | B418: 133 | C418: Star STB | D418: one size | E418: 9008132674794 | I418: 179.9 | J418: =H418+G418+F418 -> 0 | K418: =I418*J418 -> 0 | L418: EISBAR | N418: 540
A419: 36171 | B419: 249 | C419: Star STB | D419: one size | E419: 9008132674800 | I419: 179.9 | J419: =H419+G419+F419 -> 0 | K419: =I419*J419 -> 0 | L419: EISBAR | N419: 541
A420: 36171 | B420: 330 | C420: Star STB | D420: one size | E420: 9008132674817 | I420: 179.9 | J420: =H420+G420+F420 -> 0 | K420: =I420*J420 -> 0 | L420: EISBAR | N420: 542
A421: 36171 | B421: 469 | C421: Star STB | D421: one size | E421: 9008132674824 | I421: 179.9 | J421: =H421+G421+F421 -> 0 | K421: =I421*J421 -> 0 | L421: EISBAR | N421: 543
A422: 36171 | B422: 659 | C422: Star STB | D422: one size | E422: 9008132674831 | I422: 179.9 | J422: =H422+G422+F422 -> 0 | K422: =I422*J422 -> 0 | L422: EISBAR | N422: 544
A423: 36171 | B423: 672 | C423: Star STB | D423: one size | E423: 9008132674848 | I423: 179.9 | J423: =H423+G423+F423 -> 0 | K423: =I423*J423 -> 0 | L423: EISBAR | N423: 545
A424: 408510 | B424: 7 | C424: Jamie STB | D424: one size | E424: 9008132633784 | I424: 179.9 | J424: =H424+G424+F424 -> 0 | K424: =I424*J424 -> 0 | L424: EISBAR | N424: 550
A425: 408510 | B425: 9 | C425: Jamie STB | D425: one size | E425: 9008132370252 | I425: 179.9 | J425: =H425+G425+F425 -> 0 | K425: =I425*J425 -> 0 | L425: EISBAR | N425: 551
... A457: 33153 | B457: 24 | C457: Sorra MÜ SA | D457: one size | E457: 9008132660643 | I457: 249.9 | J457: =H457+G457+F457 -> 0 | K457: =I457*J457 -> 0 | L457: EISBAR | N457: 646
A458: 33153 | B458: 100 | C458: Sorra MÜ SA | D458: one size | E458: 9008132660650 | I458: 249.9 | J458: =H458+G458+F458 -> 0 | K458: =I458*J458 -> 0 | L458: EISBAR
A459: 33153 | B459: 133 | C459: Sorra MÜ SA | D459: one size | E459: 9008132675098 | I459: 249.9 | J459: =H459+G459+F459 -> 0 | K459: =I459*J459 -> 0 | L459: EISBAR
A460: 33153 | B460: 483 | C460: Sorra MÜ SA | D460: one size | E460: 9008132675104 | I460: 249.9 | J460: =H460+G460+F460 -> 0 | K460: =I460*J460 -> 0 | L460: EISBAR
A461: 33153 | B461: 580 | C461: Sorra MÜ SA | D461: one size | E461: 9008132675111 | I461: 249.9 | J461: =H461+G461+F461 -> 0 | K461: =I461*J461 -> 0 | L461: EISBAR
A462: 37042 | B462: 8 | C462: Sorrak STB SA | D462: one size | E462: 9008132675128 | I462: 179.9 | J462: =H462+G462+F462 -> 0 | K462: =I462*J462 -> 0 | L462: EISBAR
A463: 37042 | B463: 24 | C463: Sorrak STB SA | D463: one size | E463: 9008132660674 | I463: 179.9 | J463: =H463+G463+F463 -> 0 | K463: =I463*J463 -> 0 | L463: EISBAR
A464: 37042 | B464: 100 | C464: Sorrak STB SA | D464: one size | E464: 9008132660681 | I464: 179.9 | J464: =H464+G464+F464 -> 0 | K464: =I464*J464 -> 0 | L464: EISBAR
A465: 37042 | B465: 133 | C465: Sorrak STB SA | D465: one size | E465: 9008132675135 | I465: 179.9 | J465: =H465+G465+F465 -> 0 | K465: =I465*J465 -> 0 | L465: EISBAR
A466: 37042 | B466: 483 | C466: Sorrak STB SA | D466: one size | E466: 9008132675142 | I466: 179.9 | J466: =H466+G466+F466 -> 0 | K466: =I466*J466 -> 0 | L466: EISBAR
A467: 37042 | B467: 580 | C467: Sorrak STB SA | D467: one size | E467: 9008132675159 | I467: 179.9 | J467: =H467+G467+F467 -> 0 | K467: =I467*J467 -> 0 | L467: EISBAR
A468: 33171 | B468: 109 | C468: Jamie Pompon MÜ SA | D468: one size | E468: 9008132662791 | I468: 249.9 | J468: =H468+G468+F468 -> 0 | K468: =I468*J468 -> 0 | L468: EISBAR | M468: X
A469: 33171 | B469: 249 | C469: Jamie Pompon MÜ SA | D469: one size | E469: 9008132674640 | I469: 249.9 | J469: =H469+G469+F469 -> 0 | K469: =I469*J469 -> 0 | L469: EISBAR
A470: 33171 | B470: 483 | C470: Jamie Pompon MÜ SA | D470: one size | E470: 9008132674657 | I470: 249.9 | J470: =H470+G470+F470 -> 0 | K470: =I470*J470 -> 0 | L470: EISBAR
A471: 33171 | B471: 580 | C471: Jamie Pompon MÜ SA | D471: one size | E471: 9008132674664 | I471: 249.9 | J471: =H471+G471+F471 -> 0 | K471: =I471*J471 -> 0 | L471: EISBAR
A472: 33150 | B472: 24 | C472: Norrak Pompon MÜ SA | D472: one size | E472: 9008132660568 | I472: 249.9 | J472: =H472+G472+F472 -> 0 | K472: =I472*J472 -> 0 | L472: EISBAR
A473: 33150 | B473: 133 | C473: Norrak Pompon MÜ SA | D473: one size | E473: 9008132675005 | I473: 249.9 | J473: =H473+G473+F473 -> 0 | K473: =I473*J473 -> 0 | L473: EISBAR
A474: 33150 | B474: 249 | C474: Norrak Pompon MÜ SA | D474: one size | E474: 9008132675012 | I474: 249.9 | J474: =H474+G474+F474 -> 0 | K474: =I474*J474 -> 0 | L474: EISBAR
A475: 33150 | B475: 659 | C475: Norrak Pompon MÜ SA | D475: one size | E475: 9008132675029 | I475: 249.9 | J475: =H475+G475+F475 -> 0 | K475: =I475*J475 -> 0 | L475: EISBAR
A476: 33157 | B476: 24 | C476: Rai MÜ SA | D476: one size | E476: 9008132660858 | I476: 159.9 | J476: =H476+G476+F476 -> 0 | K476: =I476*J476 -> 0 | L476: EISBAR
A477: 33157 | B477: 100 | C477: Rai MÜ SA | D477: one size | E477: 9008132660865 | I477: 159.9 | J477: =H477+G477+F477 -> 0 | K477: =I477*J477 -> 0 | L477: EISBAR
A478: 33157 | B478: 249 | C478: Rai MÜ SA | D478: one size | E478: 9008132675173 | I478: 159.9 | J478: =H478+G478+F478 -> 0 | K478: =I478*J478 -> 0 | L478: EISBAR
A479: 33157 | B479: 442 | C479: Rai MÜ SA | D479: one size | E479: 9008132675180 | I479: 159.9 | J479: =H479+G479+F479 -> 0 | K479: =I479*J479 -> 0 | L479: EISBAR
A480: 33157 | B480: 580 | C480: Rai MÜ SA | D480: one size | E480: 9008132675197 | I480: 159.9 | J480: =H480+G480+F480 -> 0 | K480: =I480*J480 -> 0 | L480: EISBAR
... A482: 33172 | B482: 249 | C482: Star Pompon MÜ SA | D482: one size | E482: 9008132674701 | I482: 249.9 | J482: =H482+G482+F482 -> 0 | K482: =I482*J482 -> 0 | L482: EISBAR
A483: 33172 | B483: 330 | C483: Star Pompon MÜ SA | D483: one size | E483: 9008132663880 | I483: 249.9 | J483: =H483+G483+F483 -> 0 | K483: =I483*J483 -> 0 | L483: EISBAR | M483: X
...
